BEGIN:VCALENDAR
VERSION:2.0
PRODID:-//LOCFSD - ECPv6.15.19//NONSGML v1.0//EN
CALSCALE:GREGORIAN
METHOD:PUBLISH
X-WR-CALNAME:LOCFSD
X-ORIGINAL-URL:https://locfsd.org
X-WR-CALDESC:Events for LOCFSD
REFRESH-INTERVAL;VALUE=DURATION:PT1H
X-Robots-Tag:noindex
X-PUBLISHED-TTL:PT1H
BEGIN:VTIMEZONE
TZID:America/Los_Angeles
BEGIN:DAYLIGHT
TZOFFSETFROM:-0800
TZOFFSETTO:-0700
TZNAME:PDT
DTSTART:20240310T100000
END:DAYLIGHT
BEGIN:STANDARD
TZOFFSETFROM:-0700
TZOFFSETTO:-0800
TZNAME:PST
DTSTART:20241103T090000
END:STANDARD
BEGIN:DAYLIGHT
TZOFFSETFROM:-0800
TZOFFSETTO:-0700
TZNAME:PDT
DTSTART:20250309T100000
END:DAYLIGHT
BEGIN:STANDARD
TZOFFSETFROM:-0700
TZOFFSETTO:-0800
TZNAME:PST
DTSTART:20251102T090000
END:STANDARD
BEGIN:DAYLIGHT
TZOFFSETFROM:-0800
TZOFFSETTO:-0700
TZNAME:PDT
DTSTART:20260308T100000
END:DAYLIGHT
BEGIN:STANDARD
TZOFFSETFROM:-0700
TZOFFSETTO:-0800
TZNAME:PST
DTSTART:20261101T090000
END:STANDARD
END:VTIMEZONE
BEGIN:VEVENT
DTSTART;TZID=America/Los_Angeles:20251102T110000
DTEND;TZID=America/Los_Angeles:20251102T123000
DTSTAMP:20260419T174231
CREATED:20251006T014002Z
LAST-MODIFIED:20251026T090745Z
UID:2450-1762081200-1762086600@locfsd.org
SUMMARY:Missions Sunday
DESCRIPTION:
URL:https://locfsd.org/event/missions-sunday/
LOCATION:Love of Christ Fellowship Church\, 9770 Carroll Centre Road Ste F\, San Diego\, California\, 92126\, United States
CATEGORIES:Everyone
ATTACH;FMTTYPE=image/png:https://locfsd.org/wp-content/uploads/2025/10/Missions-Sunday-2025-1.png
ORGANIZER;CN="Love of Christ Fellowship Church":MAILTO:info@locfsd.org
END:VEVENT
BEGIN:VEVENT
DTSTART;TZID=America/Los_Angeles:20251120T083000
DTEND;TZID=America/Los_Angeles:20251120T123000
DTSTAMP:20260419T174231
CREATED:20251102T073033Z
LAST-MODIFIED:20251120T150422Z
UID:2497-1763627400-1763641800@locfsd.org
SUMMARY:3XL Thanksgiving Meal Drive
DESCRIPTION:Wed\, Nov. 19 and/or Thurs\, Nov. 20\n8:30AM to approximately 12:30PM \nVons #4018\n10016 Scripps Ranch Blvd.\, San Diego 92131
URL:https://locfsd.org/event/3xl-thanksgiving-meal-drive/
LOCATION:Vons\, 10016 Scripps Ranch Blvd.\, San Diego\, CA\, 92131\, United States
CATEGORIES:Everyone
ATTACH;FMTTYPE=image/png:https://locfsd.org/wp-content/uploads/2025/11/3XL-Thanksgiving-Food-Drive-Announcement.png
END:VEVENT
BEGIN:VEVENT
DTSTART;TZID=America/Los_Angeles:20251123T100000
DTEND;TZID=America/Los_Angeles:20251123T110000
DTSTAMP:20260419T174231
CREATED:20251104T073413Z
LAST-MODIFIED:20251104T073413Z
UID:2511-1763892000-1763895600@locfsd.org
SUMMARY:Operation Christmas Child: Shoebox Donation Due
DESCRIPTION:Be part of sharing God’s love in a tangible way! Pack a shoebox with toys\, school supplies\, and hygiene items to bless children in need around the world. Each box opens the door for a child to experience joy and hear the message of Jesus’ love this Christmas. \nOperation Christmas Child Shoeboxes \n 
URL:https://locfsd.org/event/operation-christmas-child-shoebox-donation-due/
LOCATION:Love of Christ Fellowship Church\, 9770 Carroll Centre Road Ste F\, San Diego\, California\, 92126\, United States
CATEGORIES:Everyone
ATTACH;FMTTYPE=image/png:https://locfsd.org/wp-content/uploads/2025/11/01-Shoebox-Operation-CC-1.png
ORGANIZER;CN="Love of Christ Fellowship Church":MAILTO:info@locfsd.org
END:VEVENT
END:VCALENDAR