BEGIN:VCALENDAR
VERSION:2.0
PRODID:-//LOCFSD - ECPv6.15.19//NONSGML v1.0//EN
CALSCALE:GREGORIAN
METHOD:PUBLISH
X-ORIGINAL-URL:https://locfsd.org
X-WR-CALDESC:Events for LOCFSD
REFRESH-INTERVAL;VALUE=DURATION:PT1H
X-Robots-Tag:noindex
X-PUBLISHED-TTL:PT1H
BEGIN:VTIMEZONE
TZID:America/Los_Angeles
BEGIN:DAYLIGHT
TZOFFSETFROM:-0800
TZOFFSETTO:-0700
TZNAME:PDT
DTSTART:20240310T100000
END:DAYLIGHT
BEGIN:STANDARD
TZOFFSETFROM:-0700
TZOFFSETTO:-0800
TZNAME:PST
DTSTART:20241103T090000
END:STANDARD
BEGIN:DAYLIGHT
TZOFFSETFROM:-0800
TZOFFSETTO:-0700
TZNAME:PDT
DTSTART:20250309T100000
END:DAYLIGHT
BEGIN:STANDARD
TZOFFSETFROM:-0700
TZOFFSETTO:-0800
TZNAME:PST
DTSTART:20251102T090000
END:STANDARD
BEGIN:DAYLIGHT
TZOFFSETFROM:-0800
TZOFFSETTO:-0700
TZNAME:PDT
DTSTART:20260308T100000
END:DAYLIGHT
BEGIN:STANDARD
TZOFFSETFROM:-0700
TZOFFSETTO:-0800
TZNAME:PST
DTSTART:20261101T090000
END:STANDARD
END:VTIMEZONE
BEGIN:VEVENT
DTSTART;TZID=America/Los_Angeles:20251101T083000
DTEND;TZID=America/Los_Angeles:20251101T103000
DTSTAMP:20260419T163516
CREATED:20250913T051414Z
LAST-MODIFIED:20250913T061201Z
UID:2314-1761985800-1761993000@locfsd.org
SUMMARY:Mens Ministry Breakfast
DESCRIPTION:Join us for a time of good food\, fellowship\, and encouragement at our Men’s Ministry Breakfast! This is a great opportunity to connect with other men\, build lasting friendships\, and grow together in faith. Come hungry\, leave strengthened — not only in body\, but also in spirit\, as we encourage one another and strengthen our community. Email men@locfsd.org for questions or call for location.
URL:https://locfsd.org/event/mens-ministry-breakfast-nov-1-2025/
LOCATION:CA
CATEGORIES:Mens Ministry Event
ATTACH;FMTTYPE=image/png:https://locfsd.org/wp-content/uploads/2025/09/Mens-Ministry-Breakfast.png
ORGANIZER;CN="LOCF Men's Ministry":MAILTO:men@locfsd.org
END:VEVENT
END:VCALENDAR