BEGIN:VCALENDAR
VERSION:2.0
PRODID:-//LOCFSD - ECPv6.15.19//NONSGML v1.0//EN
CALSCALE:GREGORIAN
METHOD:PUBLISH
X-WR-CALNAME:LOCFSD
X-ORIGINAL-URL:https://locfsd.org
X-WR-CALDESC:Events for LOCFSD
REFRESH-INTERVAL;VALUE=DURATION:PT1H
X-Robots-Tag:noindex
X-PUBLISHED-TTL:PT1H
BEGIN:VTIMEZONE
TZID:America/Los_Angeles
BEGIN:DAYLIGHT
TZOFFSETFROM:-0800
TZOFFSETTO:-0700
TZNAME:PDT
DTSTART:20240310T100000
END:DAYLIGHT
BEGIN:STANDARD
TZOFFSETFROM:-0700
TZOFFSETTO:-0800
TZNAME:PST
DTSTART:20241103T090000
END:STANDARD
BEGIN:DAYLIGHT
TZOFFSETFROM:-0800
TZOFFSETTO:-0700
TZNAME:PDT
DTSTART:20250309T100000
END:DAYLIGHT
BEGIN:STANDARD
TZOFFSETFROM:-0700
TZOFFSETTO:-0800
TZNAME:PST
DTSTART:20251102T090000
END:STANDARD
BEGIN:DAYLIGHT
TZOFFSETFROM:-0800
TZOFFSETTO:-0700
TZNAME:PDT
DTSTART:20260308T100000
END:DAYLIGHT
BEGIN:STANDARD
TZOFFSETFROM:-0700
TZOFFSETTO:-0800
TZNAME:PST
DTSTART:20261101T090000
END:STANDARD
END:VTIMEZONE
BEGIN:VEVENT
DTSTART;TZID=America/Los_Angeles:20251121T183000
DTEND;TZID=America/Los_Angeles:20251121T203000
DTSTAMP:20260419T171755
CREATED:20251120T055633Z
LAST-MODIFIED:20251120T060200Z
UID:2515-1763749800-1763757000@locfsd.org
SUMMARY:Youth Friendsgiving
DESCRIPTION:
URL:https://locfsd.org/event/youth-friendsgiving-potluck-dinner/
LOCATION:Love of Christ Fellowship Church\, 9770 Carroll Centre Road Ste F\, San Diego\, California\, 92126\, United States
CATEGORIES:Youth Ministry Event
ATTACH;FMTTYPE=image/jpeg:https://locfsd.org/wp-content/uploads/2025/11/Friendsgiving2025-Youth.jpg
END:VEVENT
END:VCALENDAR