BEGIN:VCALENDAR
VERSION:2.0
PRODID:-//LOCFSD - ECPv6.15.19//NONSGML v1.0//EN
CALSCALE:GREGORIAN
METHOD:PUBLISH
X-ORIGINAL-URL:https://locfsd.org
X-WR-CALDESC:Events for LOCFSD
REFRESH-INTERVAL;VALUE=DURATION:PT1H
X-Robots-Tag:noindex
X-PUBLISHED-TTL:PT1H
BEGIN:VTIMEZONE
TZID:America/Los_Angeles
BEGIN:DAYLIGHT
TZOFFSETFROM:-0800
TZOFFSETTO:-0700
TZNAME:PDT
DTSTART:20240310T100000
END:DAYLIGHT
BEGIN:STANDARD
TZOFFSETFROM:-0700
TZOFFSETTO:-0800
TZNAME:PST
DTSTART:20241103T090000
END:STANDARD
BEGIN:DAYLIGHT
TZOFFSETFROM:-0800
TZOFFSETTO:-0700
TZNAME:PDT
DTSTART:20250309T100000
END:DAYLIGHT
BEGIN:STANDARD
TZOFFSETFROM:-0700
TZOFFSETTO:-0800
TZNAME:PST
DTSTART:20251102T090000
END:STANDARD
BEGIN:DAYLIGHT
TZOFFSETFROM:-0800
TZOFFSETTO:-0700
TZNAME:PDT
DTSTART:20260308T100000
END:DAYLIGHT
BEGIN:STANDARD
TZOFFSETFROM:-0700
TZOFFSETTO:-0800
TZNAME:PST
DTSTART:20261101T090000
END:STANDARD
BEGIN:DAYLIGHT
TZOFFSETFROM:-0800
TZOFFSETTO:-0700
TZNAME:PDT
DTSTART:20270314T100000
END:DAYLIGHT
BEGIN:STANDARD
TZOFFSETFROM:-0700
TZOFFSETTO:-0800
TZNAME:PST
DTSTART:20271107T090000
END:STANDARD
END:VTIMEZONE
BEGIN:VEVENT
DTSTART;TZID=America/Los_Angeles:20251205T180000
DTEND;TZID=America/Los_Angeles:20251205T220000
DTSTAMP:20260419T150107
CREATED:20251102T073857Z
LAST-MODIFIED:20251130T174206Z
UID:2502-1764957600-1764972000@locfsd.org
SUMMARY:Singles & Young Married Couples Christmas Party
DESCRIPTION:Friday\, December 5 @ 6PM \nLOCF Sanctuary \nPajama Party\, Potluck\, Games\, and more! \nClick here to RSVP and sign up for potluck 
URL:https://locfsd.org/event/singles-young-married-couples-christmas-party/
LOCATION:Love of Christ Fellowship Church\, 9770 Carroll Centre Road Ste F\, San Diego\, California\, 92126\, United States
CATEGORIES:Everyone
ATTACH;FMTTYPE=image/png:https://locfsd.org/wp-content/uploads/2025/11/02-Christmas-Party-YA-YM.png
ORGANIZER;CN="Love of Christ Fellowship Church":MAILTO:info@locfsd.org
END:VEVENT
BEGIN:VEVENT
DTSTART;TZID=America/Los_Angeles:20251212T180000
DTEND;TZID=America/Los_Angeles:20251212T210000
DTSTAMP:20260419T150107
CREATED:20251120T060347Z
LAST-MODIFIED:20251120T064614Z
UID:2523-1765562400-1765573200@locfsd.org
SUMMARY:YOUTH Christmas PJ Movie Night
DESCRIPTION:
URL:https://locfsd.org/event/youth-christmas-pj-movie-night/
LOCATION:Love of Christ Fellowship Church\, 9770 Carroll Centre Road Ste F\, San Diego\, California\, 92126\, United States
CATEGORIES:Youth Ministry Event
ATTACH;FMTTYPE=image/png:https://locfsd.org/wp-content/uploads/2025/11/Youth.png
END:VEVENT
BEGIN:VEVENT
DTSTART;TZID=America/Los_Angeles:20251214T100000
DTEND;TZID=America/Los_Angeles:20251214T113000
DTSTAMP:20260419T150107
CREATED:20251104T072523Z
LAST-MODIFIED:20251129T202051Z
UID:2508-1765706400-1765711800@locfsd.org
SUMMARY:Christmas Service (1 service only at 10am)
DESCRIPTION:
URL:https://locfsd.org/event/christmas-service/
LOCATION:Love of Christ Fellowship Church\, 9770 Carroll Centre Road Ste F\, San Diego\, California\, 92126\, United States
CATEGORIES:Everyone
ATTACH;FMTTYPE=image/jpeg:https://locfsd.org/wp-content/uploads/2025/11/Christmas-Service-2025.jpg
ORGANIZER;CN="Love of Christ Fellowship Church":MAILTO:info@locfsd.org
END:VEVENT
BEGIN:VEVENT
DTSTART;TZID=America/Los_Angeles:20251227T100000
DTEND;TZID=America/Los_Angeles:20251227T200000
DTSTAMP:20260419T150107
CREATED:20251120T060455Z
LAST-MODIFIED:20251120T064544Z
UID:2525-1766829600-1766865600@locfsd.org
SUMMARY:Trip to Julian
DESCRIPTION:
URL:https://locfsd.org/event/trip-to-julian/
CATEGORIES:Singles Ministry Event
ATTACH;FMTTYPE=image/png:https://locfsd.org/wp-content/uploads/2025/11/Singles.png
ORGANIZER;CN="LOCF Singles Ministry":MAILTO:singles@locfsd.org
END:VEVENT
BEGIN:VEVENT
DTSTART;TZID=America/Los_Angeles:20260329T110000
DTEND;TZID=America/Los_Angeles:20260329T123000
DTSTAMP:20260419T150107
CREATED:20251120T061418Z
LAST-MODIFIED:20251120T062030Z
UID:2527-1774782000-1774787400@locfsd.org
SUMMARY:Youth Sunday
DESCRIPTION:
URL:https://locfsd.org/event/youth-sunday/
LOCATION:Love of Christ Fellowship Church\, 9770 Carroll Centre Road Ste F\, San Diego\, California\, 92126\, United States
CATEGORIES:Everyone
ATTACH;FMTTYPE=image/png:https://locfsd.org/wp-content/uploads/2025/11/YouthSunday.png
END:VEVENT
BEGIN:VEVENT
DTSTART;TZID=America/Los_Angeles:20260531T110000
DTEND;TZID=America/Los_Angeles:20260531T123000
DTSTAMP:20260419T150107
CREATED:20251120T061518Z
LAST-MODIFIED:20251120T062023Z
UID:2530-1780225200-1780230600@locfsd.org
SUMMARY:Youth Sunday
DESCRIPTION:
URL:https://locfsd.org/event/youth-sunday-2/
LOCATION:Love of Christ Fellowship Church\, 9770 Carroll Centre Road Ste F\, San Diego\, California\, 92126\, United States
CATEGORIES:Everyone
ATTACH;FMTTYPE=image/png:https://locfsd.org/wp-content/uploads/2025/11/YouthSunday.png
END:VEVENT
BEGIN:VEVENT
DTSTART;TZID=America/Los_Angeles:20260830T110000
DTEND;TZID=America/Los_Angeles:20260830T123000
DTSTAMP:20260419T150107
CREATED:20251120T061618Z
LAST-MODIFIED:20251120T061618Z
UID:2532-1788087600-1788093000@locfsd.org
SUMMARY:Youth Sunday
DESCRIPTION:
URL:https://locfsd.org/event/youth-sunday-3/
LOCATION:Love of Christ Fellowship Church\, 9770 Carroll Centre Road Ste F\, San Diego\, California\, 92126\, United States
CATEGORIES:Everyone
ATTACH;FMTTYPE=image/png:https://locfsd.org/wp-content/uploads/2025/11/YouthSunday.png
END:VEVENT
END:VCALENDAR