BEGIN:VCALENDAR
VERSION:2.0
PRODID:-//LOCFSD - ECPv6.15.19//NONSGML v1.0//EN
CALSCALE:GREGORIAN
METHOD:PUBLISH
X-WR-CALNAME:LOCFSD
X-ORIGINAL-URL:https://locfsd.org
X-WR-CALDESC:Events for LOCFSD
REFRESH-INTERVAL;VALUE=DURATION:PT1H
X-Robots-Tag:noindex
X-PUBLISHED-TTL:PT1H
BEGIN:VTIMEZONE
TZID:America/Los_Angeles
BEGIN:DAYLIGHT
TZOFFSETFROM:-0800
TZOFFSETTO:-0700
TZNAME:PDT
DTSTART:20240310T100000
END:DAYLIGHT
BEGIN:STANDARD
TZOFFSETFROM:-0700
TZOFFSETTO:-0800
TZNAME:PST
DTSTART:20241103T090000
END:STANDARD
BEGIN:DAYLIGHT
TZOFFSETFROM:-0800
TZOFFSETTO:-0700
TZNAME:PDT
DTSTART:20250309T100000
END:DAYLIGHT
BEGIN:STANDARD
TZOFFSETFROM:-0700
TZOFFSETTO:-0800
TZNAME:PST
DTSTART:20251102T090000
END:STANDARD
BEGIN:DAYLIGHT
TZOFFSETFROM:-0800
TZOFFSETTO:-0700
TZNAME:PDT
DTSTART:20260308T100000
END:DAYLIGHT
BEGIN:STANDARD
TZOFFSETFROM:-0700
TZOFFSETTO:-0800
TZNAME:PST
DTSTART:20261101T090000
END:STANDARD
END:VTIMEZONE
BEGIN:VEVENT
DTSTART;TZID=America/Los_Angeles:20250928T130000
DTEND;TZID=America/Los_Angeles:20250928T160000
DTSTAMP:20260419T152007
CREATED:20250913T033552Z
LAST-MODIFIED:20250913T045520Z
UID:2303-1759064400-1759075200@locfsd.org
SUMMARY:Single's Ministry Lunch
DESCRIPTION:Looking for fellowship\, fun\, and meaningful connections? Come and enjoy a relaxed lunch with other singles from our church community! Share stories\, laughter\, and encouragement as we grow together in faith. Bring your heart and your appetite! \nQuality Taste Pot in Mira Mesa\n9225 Mira Mesa Blvd #110\, San Diego\, CA 92126
URL:https://locfsd.org/event/singles-ministry-lunch/
LOCATION:California
CATEGORIES:Singles Ministry Event
ATTACH;FMTTYPE=image/png:https://locfsd.org/wp-content/uploads/2025/09/Singles-Ministry-Lunch.png
ORGANIZER;CN="LOCF Singles Ministry":MAILTO:singles@locfsd.org
END:VEVENT
BEGIN:VEVENT
DTSTART;TZID=America/Los_Angeles:20250920T170000
DTEND;TZID=America/Los_Angeles:20250920T190000
DTSTAMP:20260419T152007
CREATED:20250913T032617Z
LAST-MODIFIED:20250914T085531Z
UID:2299-1758387600-1758394800@locfsd.org
SUMMARY:Women's Ministry Paint Night
DESCRIPTION:Unwind\, create\, and connect! Join our Women’s Ministry for a fun and relaxing evening of painting. No experience needed—just bring your creativity and enjoy fellowship with other amazing women. Supplies and light refreshments will be provided. Email the Women’s Ministry for questions at women@locfsd.org.
URL:https://locfsd.org/event/paint-night/
LOCATION:Love of Christ Fellowship Church\, 9770 Carroll Centre Road Ste F\, San Diego\, California\, 92126\, United States
CATEGORIES:Womens Ministry Event
ATTACH;FMTTYPE=image/jpeg:https://locfsd.org/wp-content/uploads/2025/09/Paint-Night-Brainstorm.jpg
ORGANIZER;CN="Women's Ministry":MAILTO:women@locfsd.org
END:VEVENT
BEGIN:VEVENT
DTSTART;TZID=America/Los_Angeles:20250914T090000
DTEND;TZID=America/Los_Angeles:20250914T123000
DTSTAMP:20260419T152007
CREATED:20250913T031245Z
LAST-MODIFIED:20250913T045544Z
UID:2296-1757840400-1757853000@locfsd.org
SUMMARY:Youth Sunday Service
DESCRIPTION:Join us for an uplifting Youth Sunday Service at 9 a.m. & 11 a.m.\, led by our vibrant youth ministry! Experience powerful worship\, inspiring messages\, and a community of young believers passionate about Jesus. Whether you’re a teen\, young adult\, or just young at heart\, come celebrate faith\, hope\, and joy with us this Sunday!
URL:https://locfsd.org/event/youth-sunday-service/
LOCATION:California
CATEGORIES:Youth Ministry Event
ATTACH;FMTTYPE=image/png:https://locfsd.org/wp-content/uploads/2025/09/Youth-Sunday.png
END:VEVENT
END:VCALENDAR