BEGIN:VCALENDAR
VERSION:2.0
PRODID:-//LOCFSD - ECPv6.15.19//NONSGML v1.0//EN
CALSCALE:GREGORIAN
METHOD:PUBLISH
X-ORIGINAL-URL:https://locfsd.org
X-WR-CALDESC:Events for LOCFSD
REFRESH-INTERVAL;VALUE=DURATION:PT1H
X-Robots-Tag:noindex
X-PUBLISHED-TTL:PT1H
BEGIN:VTIMEZONE
TZID:America/Los_Angeles
BEGIN:DAYLIGHT
TZOFFSETFROM:-0800
TZOFFSETTO:-0700
TZNAME:PDT
DTSTART:20250309T100000
END:DAYLIGHT
BEGIN:STANDARD
TZOFFSETFROM:-0700
TZOFFSETTO:-0800
TZNAME:PST
DTSTART:20251102T090000
END:STANDARD
BEGIN:DAYLIGHT
TZOFFSETFROM:-0800
TZOFFSETTO:-0700
TZNAME:PDT
DTSTART:20260308T100000
END:DAYLIGHT
BEGIN:STANDARD
TZOFFSETFROM:-0700
TZOFFSETTO:-0800
TZNAME:PST
DTSTART:20261101T090000
END:STANDARD
BEGIN:DAYLIGHT
TZOFFSETFROM:-0800
TZOFFSETTO:-0700
TZNAME:PDT
DTSTART:20270314T100000
END:DAYLIGHT
BEGIN:STANDARD
TZOFFSETFROM:-0700
TZOFFSETTO:-0800
TZNAME:PST
DTSTART:20271107T090000
END:STANDARD
END:VTIMEZONE
BEGIN:VEVENT
DTSTART;TZID=America/Los_Angeles:20260830T110000
DTEND;TZID=America/Los_Angeles:20260830T123000
DTSTAMP:20260419T131118
CREATED:20251120T061618Z
LAST-MODIFIED:20251120T061618Z
UID:2532-1788087600-1788093000@locfsd.org
SUMMARY:Youth Sunday
DESCRIPTION:
URL:https://locfsd.org/event/youth-sunday-3/
LOCATION:Love of Christ Fellowship Church\, 9770 Carroll Centre Road Ste F\, San Diego\, California\, 92126\, United States
CATEGORIES:Everyone
ATTACH;FMTTYPE=image/png:https://locfsd.org/wp-content/uploads/2025/11/YouthSunday.png
END:VEVENT
END:VCALENDAR